BEGIN:VCALENDAR
VERSION:2.0
PRODID:-//Overthorpe Parish Council//Meeting Calendar//EN
CALSCALE:GREGORIAN
METHOD:PUBLISH
BEGIN:VEVENT
UID:70458-20240514@overthorpeparish.gov.uk
DTSTAMP:20260423T201233Z
DTSTART;VALUE=DATE:20240514
DTEND;VALUE=DATE:20240515
SUMMARY:Full Council Meeting &#8211\\; 14 May 2024
DESCRIPTION:Full Council Meeting\nView details: https://overthorpeparish.gov.uk/meetings/full-council-meeting-14-may-2024/
URL:https://overthorpeparish.gov.uk/meetings/full-council-meeting-14-may-2024/
END:VEVENT
END:VCALENDAR
