BEGIN:VCALENDAR
VERSION:2.0
PRODID:-//Overthorpe Parish Council//Meeting Calendar//EN
CALSCALE:GREGORIAN
METHOD:PUBLISH
BEGIN:VEVENT
UID:70501-20200101@overthorpeparish.gov.uk
DTSTAMP:20260423T184830Z
DTSTART;VALUE=DATE:20200101
DTEND;VALUE=DATE:20200102
SUMMARY:Full Council Meetings &#8211\\; 2020
DESCRIPTION:Full Council Meeting\nView details: https://overthorpeparish.gov.uk/meetings/full-council-meetings-2020/
URL:https://overthorpeparish.gov.uk/meetings/full-council-meetings-2020/
END:VEVENT
END:VCALENDAR
