BEGIN:VCALENDAR
VERSION:2.0
PRODID:-//Overthorpe Parish Council//Meeting Calendar//EN
CALSCALE:GREGORIAN
METHOD:PUBLISH
BEGIN:VEVENT
UID:70642-20250519@overthorpeparish.gov.uk
DTSTAMP:20260423T184921Z
DTSTART;VALUE=DATE:20250519
DTEND;VALUE=DATE:20250520
SUMMARY:Full Council Meeting 19 May 2025
DESCRIPTION:Full Council Meeting\nView details: https://overthorpeparish.gov.uk/meetings/full-council-meeting-19-may-2025/
URL:https://overthorpeparish.gov.uk/meetings/full-council-meeting-19-may-2025/
END:VEVENT
END:VCALENDAR
