BEGIN:VCALENDAR
VERSION:2.0
PRODID:-//Overthorpe Parish Council//Meeting Calendar//EN
CALSCALE:GREGORIAN
METHOD:PUBLISH
BEGIN:VEVENT
UID:70667-20250929@overthorpeparish.gov.uk
DTSTAMP:20260423T171857Z
DTSTART;VALUE=DATE:20250929
DTEND;VALUE=DATE:20250930
SUMMARY:Full Council Meeting 29 September 2025
DESCRIPTION:Full Council Meeting\nView details: https://overthorpeparish.gov.uk/meetings/full-council-meeting-29-september-2025/
URL:https://overthorpeparish.gov.uk/meetings/full-council-meeting-29-september-2025/
END:VEVENT
END:VCALENDAR
